BEGIN:VCALENDAR
VERSION:2.0
PRODID:-//Emily Bergmann - ECPv6.15.14//NONSGML v1.0//EN
CALSCALE:GREGORIAN
METHOD:PUBLISH
X-WR-CALNAME:Emily Bergmann
X-ORIGINAL-URL:https://emilykbergmann.com
X-WR-CALDESC:Events for Emily Bergmann
REFRESH-INTERVAL;VALUE=DURATION:PT1H
X-Robots-Tag:noindex
X-PUBLISHED-TTL:PT1H
BEGIN:VTIMEZONE
TZID:America/New_York
BEGIN:DAYLIGHT
TZOFFSETFROM:-0500
TZOFFSETTO:-0400
TZNAME:EDT
DTSTART:20240310T070000
END:DAYLIGHT
BEGIN:STANDARD
TZOFFSETFROM:-0400
TZOFFSETTO:-0500
TZNAME:EST
DTSTART:20241103T060000
END:STANDARD
BEGIN:DAYLIGHT
TZOFFSETFROM:-0500
TZOFFSETTO:-0400
TZNAME:EDT
DTSTART:20250309T070000
END:DAYLIGHT
BEGIN:STANDARD
TZOFFSETFROM:-0400
TZOFFSETTO:-0500
TZNAME:EST
DTSTART:20251102T060000
END:STANDARD
BEGIN:DAYLIGHT
TZOFFSETFROM:-0500
TZOFFSETTO:-0400
TZNAME:EDT
DTSTART:20260308T070000
END:DAYLIGHT
BEGIN:STANDARD
TZOFFSETFROM:-0400
TZOFFSETTO:-0500
TZNAME:EST
DTSTART:20261101T060000
END:STANDARD
END:VTIMEZONE
BEGIN:VEVENT
DTSTART;TZID=America/New_York:20250620T190000
DTEND;TZID=America/New_York:20250620T200000
DTSTAMP:20260424T130244
CREATED:20250610T184037Z
LAST-MODIFIED:20250624T173127Z
UID:4404-1750446000-1750449600@emilykbergmann.com
SUMMARY:Bach\, Family\, and Friends: An Evening of Motets
DESCRIPTION:This is an informal presentation of motets by J. S. Bach\, other members of the Bach family\, and contemporaneous works. The program explores the breadth of seventeenth- and early eighteenth-century motet repertory. \nThe concert is presented by singers with the Chorworks summer program. Directed by the Chapel’s conductor-in-residence Dr. Philip Cave\, Chorworks is a week-long workshop for talented\, early-career singers to deepen their facility with early music repertoire. \nChorworks’ founder\, Dr. Cave\, is a conductor\, educator\, singer\, and the director of the professional ensemble Magnificat. As a vocal soloist\, he has worked with celebrated conductors including Leonard Bernstein\, and at venues including the Beethovenhalle in Bonn and the Sydney Opera House. He has performed across Europe\, at the BBC Promenade Concerts in London\, and has shared the concert platform with many distinguished musicians\, including Sir Peter Pears\, Sting\, and Sir Paul McCartney. \nDr. Cave is joined in leading this year’s Chorworks workshop by guest artist instructors\, including soprano Molly Quinn\, baritone Harrison Hintzsche\, and instrumentalist Daniel Swenberg. \nRepertoire\n\nCantate Domino (Heinrich Schütz)\nHalt\, was du hast (Johann Michael Bach)\nFürchte dich nicht (Johann Christoph Bach)\nEs ist nun aus mit meinem Leben (Johann Christoph Bach)\nDer Mensch\, von Weibe geboren (Johann Christoph Bach)\nUnser Leben ist ein Schatten (Johann Bach)\nIch lasse dich nicht\, du segnest mich denn\, BWV 1164 (Johann Sebastian Bach)\nGott sei uns gnädig (Johann Ludwig Bach)\nSinget dem Herrn (Johann Pachebel)
URL:https://emilykbergmann.com/event/2025-06-20-chorworks/
LOCATION:Goodson Chapel\, 403 Chapel Dr\, Durham\, NC\, 27708\, United States
CATEGORIES:choral,concert,early music,residency
ATTACH;FMTTYPE=image/jpeg:https://emilykbergmann.com/wp-content/uploads/2025/06/2025.06.20_Chorworks.jpg
ORGANIZER;CN="Duke University Chapel":MAILTO:dukechapel@duke.edu
END:VEVENT
END:VCALENDAR