BEGIN:VCALENDAR
VERSION:2.0
PRODID:-//Emily Bergmann - ECPv6.15.14//NONSGML v1.0//EN
CALSCALE:GREGORIAN
METHOD:PUBLISH
X-WR-CALNAME:Emily Bergmann
X-ORIGINAL-URL:https://emilykbergmann.com
X-WR-CALDESC:Events for Emily Bergmann
REFRESH-INTERVAL;VALUE=DURATION:PT1H
X-Robots-Tag:noindex
X-PUBLISHED-TTL:PT1H
BEGIN:VTIMEZONE
TZID:America/New_York
BEGIN:DAYLIGHT
TZOFFSETFROM:-0500
TZOFFSETTO:-0400
TZNAME:EDT
DTSTART:20240310T070000
END:DAYLIGHT
BEGIN:STANDARD
TZOFFSETFROM:-0400
TZOFFSETTO:-0500
TZNAME:EST
DTSTART:20241103T060000
END:STANDARD
BEGIN:DAYLIGHT
TZOFFSETFROM:-0500
TZOFFSETTO:-0400
TZNAME:EDT
DTSTART:20250309T070000
END:DAYLIGHT
BEGIN:STANDARD
TZOFFSETFROM:-0400
TZOFFSETTO:-0500
TZNAME:EST
DTSTART:20251102T060000
END:STANDARD
BEGIN:DAYLIGHT
TZOFFSETFROM:-0500
TZOFFSETTO:-0400
TZNAME:EDT
DTSTART:20260308T070000
END:DAYLIGHT
BEGIN:STANDARD
TZOFFSETFROM:-0400
TZOFFSETTO:-0500
TZNAME:EST
DTSTART:20261101T060000
END:STANDARD
END:VTIMEZONE
BEGIN:VEVENT
DTSTART;TZID=America/New_York:20250514T180000
DTEND;TZID=America/New_York:20250514T193000
DTSTAMP:20260425T061916
CREATED:20250627T222657Z
LAST-MODIFIED:20250627T222934Z
UID:4721-1747245600-1747251000@emilykbergmann.com
SUMMARY:Alumni Artistic Achievement Award
DESCRIPTION:We are delighted to honor St. Luke’s Alumna Emily Bergmann ’12 with the Alumni Artistic Achievement Award. \nEmily\, a classically trained mezzo-soprano\, will treat attendees to a captivating vocal performance. Her remarkable talent has earned her performances alongside icons like Andrea Bocelli\, and she has appeared on the renowned stages of Carnegie Hall and Madison Square Garden. This year\, Emily’s contributions earned her ensemble at Trinity Church a GRAMMY nomination for Best Choral Performance. We hope you will join us for this wonderful evening in celebration of Emily’s accomplishments.
URL:https://emilykbergmann.com/event/2025-05-14-stlukesct/
LOCATION:St. Luke’s School\, 377 N Wilton Rd\, New Canaan\, CT\, 06840\, United States
CATEGORIES:award
ATTACH;FMTTYPE=image/jpeg:https://emilykbergmann.com/wp-content/uploads/2025/06/2025.05.14_SLS.jpg
END:VEVENT
END:VCALENDAR