BEGIN:VCALENDAR
VERSION:2.0
PRODID:-//Emily Bergmann - ECPv6.15.14//NONSGML v1.0//EN
CALSCALE:GREGORIAN
METHOD:PUBLISH
X-WR-CALNAME:Emily Bergmann
X-ORIGINAL-URL:https://emilykbergmann.com
X-WR-CALDESC:Events for Emily Bergmann
REFRESH-INTERVAL;VALUE=DURATION:PT1H
X-Robots-Tag:noindex
X-PUBLISHED-TTL:PT1H
BEGIN:VTIMEZONE
TZID:America/New_York
BEGIN:DAYLIGHT
TZOFFSETFROM:-0500
TZOFFSETTO:-0400
TZNAME:EDT
DTSTART:20210314T070000
END:DAYLIGHT
BEGIN:STANDARD
TZOFFSETFROM:-0400
TZOFFSETTO:-0500
TZNAME:EST
DTSTART:20211107T060000
END:STANDARD
BEGIN:DAYLIGHT
TZOFFSETFROM:-0500
TZOFFSETTO:-0400
TZNAME:EDT
DTSTART:20220313T070000
END:DAYLIGHT
BEGIN:STANDARD
TZOFFSETFROM:-0400
TZOFFSETTO:-0500
TZNAME:EST
DTSTART:20221106T060000
END:STANDARD
BEGIN:DAYLIGHT
TZOFFSETFROM:-0500
TZOFFSETTO:-0400
TZNAME:EDT
DTSTART:20230312T070000
END:DAYLIGHT
BEGIN:STANDARD
TZOFFSETFROM:-0400
TZOFFSETTO:-0500
TZNAME:EST
DTSTART:20231105T060000
END:STANDARD
BEGIN:DAYLIGHT
TZOFFSETFROM:-0500
TZOFFSETTO:-0400
TZNAME:EDT
DTSTART:20240310T070000
END:DAYLIGHT
BEGIN:STANDARD
TZOFFSETFROM:-0400
TZOFFSETTO:-0500
TZNAME:EST
DTSTART:20241103T060000
END:STANDARD
BEGIN:DAYLIGHT
TZOFFSETFROM:-0500
TZOFFSETTO:-0400
TZNAME:EDT
DTSTART:20250309T070000
END:DAYLIGHT
BEGIN:STANDARD
TZOFFSETFROM:-0400
TZOFFSETTO:-0500
TZNAME:EST
DTSTART:20251102T060000
END:STANDARD
BEGIN:DAYLIGHT
TZOFFSETFROM:-0500
TZOFFSETTO:-0400
TZNAME:EDT
DTSTART:20260308T070000
END:DAYLIGHT
BEGIN:STANDARD
TZOFFSETFROM:-0400
TZOFFSETTO:-0500
TZNAME:EST
DTSTART:20261101T060000
END:STANDARD
END:VTIMEZONE
BEGIN:VEVENT
DTSTART;TZID=America/New_York:20251203T190000
DTEND;TZID=America/New_York:20251203T200000
DTSTAMP:20260424T165527
CREATED:20250916T211249Z
LAST-MODIFIED:20250916T211249Z
UID:4935-1764788400-1764792000@emilykbergmann.com
SUMMARY:Downtown Voices Celebrates 10 Years: Britten “Saint Nicolas”
DESCRIPTION:Expect a night of celebration\, reflection\, and joyful music-making when Downtown Voices brings back its alumni to mark this important anniversary. Joining forces with Trinity Youth Chorus and contemporary music ensemble NOVUS\, past and present members will raise their voices in a program that features the first work the chorus ever performed: Benjamin Britten’s Saint Nicolas. This colorful cantata tells the story of the revered 4th century bishop upon whom the legend of Santa Claus is based.
URL:https://emilykbergmann.com/event/2025-12-03-trinity/
LOCATION:Trinity Church\, 89 Broadway\, New York\, NY\, 10006\, United States
CATEGORIES:choral,concert,holiday,trinity church
ATTACH;FMTTYPE=image/png:https://emilykbergmann.com/wp-content/uploads/2025/09/2025-Fall-Season-Preview-Instagram-Grid-3.png
END:VEVENT
BEGIN:VEVENT
DTSTART;TZID=America/New_York:20241221T153000
DTEND;TZID=America/New_York:20241221T163000
DTSTAMP:20260424T165527
CREATED:20241221T203003Z
LAST-MODIFIED:20250624T155141Z
UID:4460-1734795000-1734798600@emilykbergmann.com
SUMMARY:Sing\, Choirs of Angels: Holiday Sing-Along
DESCRIPTION:Trinity’s holiday extravaganza of carols and other festive works features the combined power of all Trinity’s vocal groups — Trinity Choir\, St. Paul’s Chapel Choir\, and Downtown Voices — in addition to NOVUS brass and percussion\, The Choirs of the Borough of Manhattan Community College (BMCC)\, and\, of course\, Trinity’s congregation.
URL:https://emilykbergmann.com/event/2024-12-21-trinity-2/
LOCATION:Trinity Church\, 89 Broadway\, New York\, NY\, 10006\, United States
CATEGORIES:choral,concert,holiday,trinity church
ATTACH;FMTTYPE=image/jpeg:https://emilykbergmann.com/wp-content/uploads/2025/06/Holiday_Trinity.jpg
END:VEVENT
BEGIN:VEVENT
DTSTART;TZID=America/New_York:20241221T140000
DTEND;TZID=America/New_York:20241221T150000
DTSTAMP:20260424T165527
CREATED:20241221T190021Z
LAST-MODIFIED:20250624T155148Z
UID:4468-1734789600-1734793200@emilykbergmann.com
SUMMARY:Sing\, Choirs of Angels: Holiday Sing-Along
DESCRIPTION:Trinity’s holiday extravaganza of carols and other festive works features the combined power of all Trinity’s vocal groups — Trinity Choir\, St. Paul’s Chapel Choir\, and Downtown Voices — in addition to NOVUS brass and percussion\, The Choirs of the Borough of Manhattan Community College (BMCC)\, and\, of course\, Trinity’s congregation.
URL:https://emilykbergmann.com/event/2024-12-21-trinity-1/
LOCATION:Trinity Church\, 89 Broadway\, New York\, NY\, 10006\, United States
CATEGORIES:choral,concert,holiday,trinity church
ATTACH;FMTTYPE=image/jpeg:https://emilykbergmann.com/wp-content/uploads/2025/06/Holiday_Trinity.jpg
END:VEVENT
BEGIN:VEVENT
DTSTART;TZID=America/New_York:20231217T150000
DTEND;TZID=America/New_York:20231217T163000
DTSTAMP:20260424T165527
CREATED:20231217T200041Z
LAST-MODIFIED:20250624T155235Z
UID:4492-1702825200-1702830600@emilykbergmann.com
SUMMARY:Sing\, Choirs of Angels: Holiday Concert and Sing-Along
DESCRIPTION:Trinity Church Wall Street presents its annual holiday concert\, Sing\, Choirs of Angels\, on Sunday\, December 17\, at 3pm in Trinity Church. The program will include sing-along Christmas carols and other festive works featuring the combined vocal power of all of Trinity’s vocal ensembles: The Choir of Trinity Church Wall Street\, the Trinity Youth Chorus\, St. Paul’s Chapel Choir\, and Downtown Voices\, joined by NOVUS NY Brass\, The Choirs from the Borough of Manhattan Community College (BMCC)\, and\, of course\, Trinity’s congregation.
URL:https://emilykbergmann.com/event/2023-12-17-trinity/
LOCATION:Trinity Church\, 89 Broadway\, New York\, NY\, 10006\, United States
CATEGORIES:choral,concert,holiday,trinity church
ATTACH;FMTTYPE=image/jpeg:https://emilykbergmann.com/wp-content/uploads/2025/06/Holiday_Trinity.jpg
END:VEVENT
BEGIN:VEVENT
DTSTART;TZID=America/New_York:20221211T150000
DTEND;TZID=America/New_York:20221211T163000
DTSTAMP:20260424T165527
CREATED:20221211T200003Z
LAST-MODIFIED:20250624T155342Z
UID:4521-1670770800-1670776200@emilykbergmann.com
SUMMARY:Holiday Favorites
DESCRIPTION:For those who love Handel’s Messiah but missed out on the December 9-10 ticketed performances\, on December 11 Trinity is presenting Holiday Favorites with popular choruses from Messiah presented alongside Christmas carols and other festive songs in a special concert. The Borough of Manhattan Community College (BMCC) Choir joins this epic holiday performance that features all of Trinity’s ensembles; the Trinity Youth Chorus\, Downtown Voices\, St. Paul’s Chapel Choir\, The Choir of Trinity Wall Street\, Trinity Baroque Orchestra\, and NOVUS NY.
URL:https://emilykbergmann.com/event/2022-12-11-trinity/
LOCATION:Trinity Church\, 89 Broadway\, New York\, NY\, 10006\, United States
CATEGORIES:choral,concert,holiday,trinity church
ATTACH;FMTTYPE=image/png:https://emilykbergmann.com/wp-content/uploads/2025/06/2022.12.11_Trinity.png
END:VEVENT
END:VCALENDAR