BEGIN:VCALENDAR
VERSION:2.0
PRODID:-//Emily Bergmann - ECPv6.15.14//NONSGML v1.0//EN
CALSCALE:GREGORIAN
METHOD:PUBLISH
X-ORIGINAL-URL:https://emilykbergmann.com
X-WR-CALDESC:Events for Emily Bergmann
REFRESH-INTERVAL;VALUE=DURATION:PT1H
X-Robots-Tag:noindex
X-PUBLISHED-TTL:PT1H
BEGIN:VTIMEZONE
TZID:America/New_York
BEGIN:DAYLIGHT
TZOFFSETFROM:-0500
TZOFFSETTO:-0400
TZNAME:EDT
DTSTART:20240310T070000
END:DAYLIGHT
BEGIN:STANDARD
TZOFFSETFROM:-0400
TZOFFSETTO:-0500
TZNAME:EST
DTSTART:20241103T060000
END:STANDARD
BEGIN:DAYLIGHT
TZOFFSETFROM:-0500
TZOFFSETTO:-0400
TZNAME:EDT
DTSTART:20250309T070000
END:DAYLIGHT
BEGIN:STANDARD
TZOFFSETFROM:-0400
TZOFFSETTO:-0500
TZNAME:EST
DTSTART:20251102T060000
END:STANDARD
BEGIN:DAYLIGHT
TZOFFSETFROM:-0500
TZOFFSETTO:-0400
TZNAME:EDT
DTSTART:20260308T070000
END:DAYLIGHT
BEGIN:STANDARD
TZOFFSETFROM:-0400
TZOFFSETTO:-0500
TZNAME:EST
DTSTART:20261101T060000
END:STANDARD
END:VTIMEZONE
BEGIN:VEVENT
DTSTART;TZID=America/New_York:20250413T190000
DTEND;TZID=America/New_York:20250413T200000
DTSTAMP:20260425T062628
CREATED:20250413T230010Z
LAST-MODIFIED:20250624T155121Z
UID:4429-1744570800-1744574400@emilykbergmann.com
SUMMARY:Special Compline by Candlelight
DESCRIPTION:Compline by Candlelight is an ancient rite of prayers to end the day; Compline means “completion.” Set in the tranquility of St. Paul’s Chapel\, one of the oldest buildings in New York City\, Trinity’s 30-minute Compline service is unique in that all who enter hold a candle and simply listen to Downtown Voices beautifully improvise the Compline nighttime prayers in song. There’s nothing to do but be.
URL:https://emilykbergmann.com/event/2025-04-13-trinity/
LOCATION:St. Paul’s Chapel\, 209 Broadway\, New York\, NY\, 10006\, United States
CATEGORIES:choral,liturgical,trinity church
ATTACH;FMTTYPE=image/webp:https://emilykbergmann.com/wp-content/uploads/2025/06/Trinity_Compline.webp
END:VEVENT
END:VCALENDAR