BEGIN:VCALENDAR
VERSION:2.0
PRODID:-//Emily Bergmann - ECPv6.15.14//NONSGML v1.0//EN
CALSCALE:GREGORIAN
METHOD:PUBLISH
X-WR-CALNAME:Emily Bergmann
X-ORIGINAL-URL:https://emilykbergmann.com
X-WR-CALDESC:Events for Emily Bergmann
REFRESH-INTERVAL;VALUE=DURATION:PT1H
X-Robots-Tag:noindex
X-PUBLISHED-TTL:PT1H
BEGIN:VTIMEZONE
TZID:America/New_York
BEGIN:DAYLIGHT
TZOFFSETFROM:-0500
TZOFFSETTO:-0400
TZNAME:EDT
DTSTART:20240310T070000
END:DAYLIGHT
BEGIN:STANDARD
TZOFFSETFROM:-0400
TZOFFSETTO:-0500
TZNAME:EST
DTSTART:20241103T060000
END:STANDARD
BEGIN:DAYLIGHT
TZOFFSETFROM:-0500
TZOFFSETTO:-0400
TZNAME:EDT
DTSTART:20250309T070000
END:DAYLIGHT
BEGIN:STANDARD
TZOFFSETFROM:-0400
TZOFFSETTO:-0500
TZNAME:EST
DTSTART:20251102T060000
END:STANDARD
BEGIN:DAYLIGHT
TZOFFSETFROM:-0500
TZOFFSETTO:-0400
TZNAME:EDT
DTSTART:20260308T070000
END:DAYLIGHT
BEGIN:STANDARD
TZOFFSETFROM:-0400
TZOFFSETTO:-0500
TZNAME:EST
DTSTART:20261101T060000
END:STANDARD
END:VTIMEZONE
BEGIN:VEVENT
DTSTART;TZID=America/New_York:20251012T100000
DTEND;TZID=America/New_York:20251012T113000
DTSTAMP:20260425T102921
CREATED:20250916T212601Z
LAST-MODIFIED:20250916T212601Z
UID:4952-1760263200-1760268600@emilykbergmann.com
SUMMARY:Eighteenth Sunday after Pentecost
DESCRIPTION:
URL:https://emilykbergmann.com/event/2025-10-12-slsm/
LOCATION:Church of St. Luke & St. Matthew\, 520 Clinton Ave\, Brooklyn\, NY\, 11238\, United States
CATEGORIES:liturgical
ATTACH;FMTTYPE=image/png:https://emilykbergmann.com/wp-content/uploads/2025/06/SLSM_logo.png
ORGANIZER;CN="Church of St. Luke & St. Matthew":MAILTO:music@stlukeandstmatthew.org
END:VEVENT
BEGIN:VEVENT
DTSTART;TZID=America/New_York:20251019T100000
DTEND;TZID=America/New_York:20251019T113000
DTSTAMP:20260425T102921
CREATED:20250916T212721Z
LAST-MODIFIED:20250916T212721Z
UID:4954-1760868000-1760873400@emilykbergmann.com
SUMMARY:Feast of St. Luke/Nineteenth Sunday after Pentecost
DESCRIPTION:
URL:https://emilykbergmann.com/event/2025-10-19-slsm/
LOCATION:Church of St. Luke & St. Matthew\, 520 Clinton Ave\, Brooklyn\, NY\, 11238\, United States
CATEGORIES:liturgical
ATTACH;FMTTYPE=image/png:https://emilykbergmann.com/wp-content/uploads/2025/06/SLSM_logo.png
ORGANIZER;CN="Church of St. Luke & St. Matthew":MAILTO:music@stlukeandstmatthew.org
END:VEVENT
BEGIN:VEVENT
DTSTART;TZID=America/New_York:20251026T100000
DTEND;TZID=America/New_York:20251026T113000
DTSTAMP:20260425T102921
CREATED:20250916T212818Z
LAST-MODIFIED:20250916T212818Z
UID:4956-1761472800-1761478200@emilykbergmann.com
SUMMARY:Twentieth Sunday after Pentecost
DESCRIPTION:
URL:https://emilykbergmann.com/event/2025-10-26-slsm/
LOCATION:Church of St. Luke & St. Matthew\, 520 Clinton Ave\, Brooklyn\, NY\, 11238\, United States
CATEGORIES:liturgical
ATTACH;FMTTYPE=image/png:https://emilykbergmann.com/wp-content/uploads/2025/06/SLSM_logo.png
ORGANIZER;CN="Church of St. Luke & St. Matthew":MAILTO:music@stlukeandstmatthew.org
END:VEVENT
BEGIN:VEVENT
DTSTART;TZID=America/New_York:20251102T100000
DTEND;TZID=America/New_York:20251102T113000
DTSTAMP:20260425T102921
CREATED:20250916T212941Z
LAST-MODIFIED:20250916T212941Z
UID:4958-1762077600-1762083000@emilykbergmann.com
SUMMARY:All Saints' Day
DESCRIPTION:
URL:https://emilykbergmann.com/event/2025-11-02-slsm/
LOCATION:Church of St. Luke & St. Matthew\, 520 Clinton Ave\, Brooklyn\, NY\, 11238\, United States
CATEGORIES:liturgical
ATTACH;FMTTYPE=image/png:https://emilykbergmann.com/wp-content/uploads/2025/06/SLSM_logo.png
ORGANIZER;CN="Church of St. Luke & St. Matthew":MAILTO:music@stlukeandstmatthew.org
END:VEVENT
BEGIN:VEVENT
DTSTART;TZID=America/New_York:20251109T100000
DTEND;TZID=America/New_York:20251109T113000
DTSTAMP:20260425T102921
CREATED:20250916T213040Z
LAST-MODIFIED:20250916T213040Z
UID:4960-1762682400-1762687800@emilykbergmann.com
SUMMARY:Twenty-Second Sunday after Pentecost
DESCRIPTION:
URL:https://emilykbergmann.com/event/2025-11-09-slsm/
LOCATION:Church of St. Luke & St. Matthew\, 520 Clinton Ave\, Brooklyn\, NY\, 11238\, United States
CATEGORIES:liturgical
ATTACH;FMTTYPE=image/png:https://emilykbergmann.com/wp-content/uploads/2025/06/SLSM_logo.png
ORGANIZER;CN="Church of St. Luke & St. Matthew":MAILTO:music@stlukeandstmatthew.org
END:VEVENT
END:VCALENDAR