BEGIN:VCALENDAR
VERSION:2.0
PRODID:-//Emily Bergmann - ECPv6.15.14//NONSGML v1.0//EN
CALSCALE:GREGORIAN
METHOD:PUBLISH
X-ORIGINAL-URL:https://emilykbergmann.com
X-WR-CALDESC:Events for Emily Bergmann
REFRESH-INTERVAL;VALUE=DURATION:PT1H
X-Robots-Tag:noindex
X-PUBLISHED-TTL:PT1H
BEGIN:VTIMEZONE
TZID:America/New_York
BEGIN:DAYLIGHT
TZOFFSETFROM:-0500
TZOFFSETTO:-0400
TZNAME:EDT
DTSTART:20240310T070000
END:DAYLIGHT
BEGIN:STANDARD
TZOFFSETFROM:-0400
TZOFFSETTO:-0500
TZNAME:EST
DTSTART:20241103T060000
END:STANDARD
BEGIN:DAYLIGHT
TZOFFSETFROM:-0500
TZOFFSETTO:-0400
TZNAME:EDT
DTSTART:20250309T070000
END:DAYLIGHT
BEGIN:STANDARD
TZOFFSETFROM:-0400
TZOFFSETTO:-0500
TZNAME:EST
DTSTART:20251102T060000
END:STANDARD
BEGIN:DAYLIGHT
TZOFFSETFROM:-0500
TZOFFSETTO:-0400
TZNAME:EDT
DTSTART:20260308T070000
END:DAYLIGHT
BEGIN:STANDARD
TZOFFSETFROM:-0400
TZOFFSETTO:-0500
TZNAME:EST
DTSTART:20261101T060000
END:STANDARD
END:VTIMEZONE
BEGIN:VEVENT
DTSTART;TZID=America/New_York:20250501T190000
DTEND;TZID=America/New_York:20250501T210000
DTSTAMP:20260425T064227
CREATED:20250501T230029Z
LAST-MODIFIED:20251111T230913Z
UID:4425-1746126000-1746133200@emilykbergmann.com
SUMMARY:Verdi Requiem
DESCRIPTION:In celebration of its 100th anniversary\, The Dessoff Choirs joins forces with Trinity Choir\, Downtown Voices\, and NOVUS to take the audience on a soul-stirring journey through Giuseppe Verdi’s Requiem. The epic work is paired with the world premiere of an exciting new choral work by Pulitzer Prize–winning composer Tania León\, commissioned for Dessoff’s centennial. Leading the powerful performance is Grammy-nominated conductor Malcolm J. Merriweather\, director of the New York Philharmonic Chorus and music director of The Dessoff Choirs.
URL:https://emilykbergmann.com/event/2025-05-01-trinity/
LOCATION:Trinity Church\, 89 Broadway\, New York\, NY\, 10006\, United States
CATEGORIES:choral,concert,premiere,trinity church
ATTACH;FMTTYPE=image/png:https://emilykbergmann.com/wp-content/uploads/2025/06/2025-05_Trinity_Verdi.png
END:VEVENT
BEGIN:VEVENT
DTSTART;TZID=America/New_York:20250502T190000
DTEND;TZID=America/New_York:20250502T210000
DTSTAMP:20260425T064227
CREATED:20250502T230035Z
LAST-MODIFIED:20250624T155100Z
UID:4427-1746212400-1746219600@emilykbergmann.com
SUMMARY:Verdi Requiem
DESCRIPTION:In celebration of its 100th anniversary\, The Dessoff Choirs joins forces with Trinity Choir\, Downtown Voices\, and NOVUS to take the audience on a soul-stirring journey through Giuseppe Verdi’s Requiem. The epic work is paired with the world premiere of an exciting new choral work by Pulitzer Prize–winning composer Tania León commissioned for Dessoff’s centennial. Leading the powerful performance is Grammy-nominated conductor Malcolm J. Merriweather\, director of the New York Philharmonic Chorus and music director of The Dessoff Choirs.
URL:https://emilykbergmann.com/event/2025-05-02-trinity/
LOCATION:Trinity Church\, 89 Broadway\, New York\, NY\, 10006\, United States
CATEGORIES:choral,concert,premiere,trinity church
ATTACH;FMTTYPE=image/png:https://emilykbergmann.com/wp-content/uploads/2025/06/2025-05_Trinity_Verdi.png
END:VEVENT
END:VCALENDAR