BEGIN:VCALENDAR
VERSION:2.0
PRODID:-//Emily Bergmann - ECPv6.15.14//NONSGML v1.0//EN
CALSCALE:GREGORIAN
METHOD:PUBLISH
X-WR-CALNAME:Emily Bergmann
X-ORIGINAL-URL:https://emilykbergmann.com
X-WR-CALDESC:Events for Emily Bergmann
REFRESH-INTERVAL;VALUE=DURATION:PT1H
X-Robots-Tag:noindex
X-PUBLISHED-TTL:PT1H
BEGIN:VTIMEZONE
TZID:America/New_York
BEGIN:DAYLIGHT
TZOFFSETFROM:-0500
TZOFFSETTO:-0400
TZNAME:EDT
DTSTART:20240310T070000
END:DAYLIGHT
BEGIN:STANDARD
TZOFFSETFROM:-0400
TZOFFSETTO:-0500
TZNAME:EST
DTSTART:20241103T060000
END:STANDARD
BEGIN:DAYLIGHT
TZOFFSETFROM:-0500
TZOFFSETTO:-0400
TZNAME:EDT
DTSTART:20250309T070000
END:DAYLIGHT
BEGIN:STANDARD
TZOFFSETFROM:-0400
TZOFFSETTO:-0500
TZNAME:EST
DTSTART:20251102T060000
END:STANDARD
BEGIN:DAYLIGHT
TZOFFSETFROM:-0500
TZOFFSETTO:-0400
TZNAME:EDT
DTSTART:20260308T070000
END:DAYLIGHT
BEGIN:STANDARD
TZOFFSETFROM:-0400
TZOFFSETTO:-0500
TZNAME:EST
DTSTART:20261101T060000
END:STANDARD
BEGIN:DAYLIGHT
TZOFFSETFROM:-0500
TZOFFSETTO:-0400
TZNAME:EDT
DTSTART:20270314T070000
END:DAYLIGHT
BEGIN:STANDARD
TZOFFSETFROM:-0400
TZOFFSETTO:-0500
TZNAME:EST
DTSTART:20271107T060000
END:STANDARD
END:VTIMEZONE
BEGIN:VEVENT
DTSTART;TZID=America/New_York:20250720T100000
DTEND;TZID=America/New_York:20250720T113000
DTSTAMP:20260425T090718
CREATED:20250916T211645Z
LAST-MODIFIED:20250916T211645Z
UID:4938-1753005600-1753011000@emilykbergmann.com
SUMMARY:Sixth Sunday after Pentecost
DESCRIPTION:
URL:https://emilykbergmann.com/event/2025-07-20-slsm/
LOCATION:Church of St. Luke & St. Matthew\, 520 Clinton Ave\, Brooklyn\, NY\, 11238\, United States
CATEGORIES:liturgical
ATTACH;FMTTYPE=image/png:https://emilykbergmann.com/wp-content/uploads/2025/06/SLSM_logo.png
ORGANIZER;CN="Church of St. Luke & St. Matthew":MAILTO:music@stlukeandstmatthew.org
END:VEVENT
BEGIN:VEVENT
DTSTART;TZID=America/New_York:20250817T100000
DTEND;TZID=America/New_York:20250817T113000
DTSTAMP:20260425T090718
CREATED:20250916T211801Z
LAST-MODIFIED:20250916T211801Z
UID:4940-1755424800-1755430200@emilykbergmann.com
SUMMARY:Tenth Sunday after Pentecost
DESCRIPTION:
URL:https://emilykbergmann.com/event/2025-08-17-slsm/
LOCATION:Church of St. Luke & St. Matthew\, 520 Clinton Ave\, Brooklyn\, NY\, 11238\, United States
CATEGORIES:liturgical
ATTACH;FMTTYPE=image/png:https://emilykbergmann.com/wp-content/uploads/2025/06/SLSM_logo.png
ORGANIZER;CN="Church of St. Luke & St. Matthew":MAILTO:music@stlukeandstmatthew.org
END:VEVENT
BEGIN:VEVENT
DTSTART;TZID=America/New_York:20250831T100000
DTEND;TZID=America/New_York:20250831T113000
DTSTAMP:20260425T090718
CREATED:20250916T211923Z
LAST-MODIFIED:20250916T211923Z
UID:4942-1756634400-1756639800@emilykbergmann.com
SUMMARY:Twelfth Sunday after Pentecost
DESCRIPTION:
URL:https://emilykbergmann.com/event/2025-08-31-slsm/
LOCATION:Church of St. Luke & St. Matthew\, 520 Clinton Ave\, Brooklyn\, NY\, 11238\, United States
CATEGORIES:liturgical
ATTACH;FMTTYPE=image/png:https://emilykbergmann.com/wp-content/uploads/2025/06/SLSM_logo.png
ORGANIZER;CN="Church of St. Luke & St. Matthew":MAILTO:music@stlukeandstmatthew.org
END:VEVENT
BEGIN:VEVENT
DTSTART;TZID=America/New_York:20250907T100000
DTEND;TZID=America/New_York:20250907T113000
DTSTAMP:20260425T090718
CREATED:20250916T212110Z
LAST-MODIFIED:20250916T212110Z
UID:4944-1757239200-1757244600@emilykbergmann.com
SUMMARY:Thirteenth Sunday after Pentecost
DESCRIPTION:
URL:https://emilykbergmann.com/event/2025-09-07-slsm/
LOCATION:Church of St. Luke & St. Matthew\, 520 Clinton Ave\, Brooklyn\, NY\, 11238\, United States
CATEGORIES:liturgical
ATTACH;FMTTYPE=image/png:https://emilykbergmann.com/wp-content/uploads/2025/06/SLSM_logo.png
ORGANIZER;CN="Church of St. Luke & St. Matthew":MAILTO:music@stlukeandstmatthew.org
END:VEVENT
BEGIN:VEVENT
DTSTART;TZID=America/New_York:20250914T100000
DTEND;TZID=America/New_York:20250914T113000
DTSTAMP:20260425T090718
CREATED:20250916T212224Z
LAST-MODIFIED:20250916T212224Z
UID:4946-1757844000-1757849400@emilykbergmann.com
SUMMARY:Fourteenth Sunday after Pentecost
DESCRIPTION:
URL:https://emilykbergmann.com/event/2025-09-14-slsm/
LOCATION:Church of St. Luke & St. Matthew\, 520 Clinton Ave\, Brooklyn\, NY\, 11238\, United States
CATEGORIES:liturgical
ATTACH;FMTTYPE=image/png:https://emilykbergmann.com/wp-content/uploads/2025/06/SLSM_logo.png
ORGANIZER;CN="Church of St. Luke & St. Matthew":MAILTO:music@stlukeandstmatthew.org
END:VEVENT
BEGIN:VEVENT
DTSTART;TZID=America/New_York:20250928T100000
DTEND;TZID=America/New_York:20250928T113000
DTSTAMP:20260425T090718
CREATED:20250916T212356Z
LAST-MODIFIED:20250916T212356Z
UID:4948-1759053600-1759059000@emilykbergmann.com
SUMMARY:Feast of St. Matthew/Sixteenth Sunday after Pentecost
DESCRIPTION:
URL:https://emilykbergmann.com/event/2025-09-28-slsm/
LOCATION:Church of St. Luke & St. Matthew\, 520 Clinton Ave\, Brooklyn\, NY\, 11238\, United States
CATEGORIES:liturgical
ATTACH;FMTTYPE=image/png:https://emilykbergmann.com/wp-content/uploads/2025/06/SLSM_logo.png
ORGANIZER;CN="Church of St. Luke & St. Matthew":MAILTO:music@stlukeandstmatthew.org
END:VEVENT
BEGIN:VEVENT
DTSTART;TZID=America/New_York:20251005T100000
DTEND;TZID=America/New_York:20251005T113000
DTSTAMP:20260425T090718
CREATED:20250916T212452Z
LAST-MODIFIED:20250916T212503Z
UID:4950-1759658400-1759663800@emilykbergmann.com
SUMMARY:Seventeenth Sunday after Pentecost
DESCRIPTION:
URL:https://emilykbergmann.com/event/2025-10-05-slsm/
LOCATION:Church of St. Luke & St. Matthew\, 520 Clinton Ave\, Brooklyn\, NY\, 11238\, United States
CATEGORIES:liturgical
ATTACH;FMTTYPE=image/png:https://emilykbergmann.com/wp-content/uploads/2025/06/SLSM_logo.png
ORGANIZER;CN="Church of St. Luke & St. Matthew":MAILTO:music@stlukeandstmatthew.org
END:VEVENT
BEGIN:VEVENT
DTSTART;TZID=America/New_York:20251012T100000
DTEND;TZID=America/New_York:20251012T113000
DTSTAMP:20260425T090718
CREATED:20250916T212601Z
LAST-MODIFIED:20250916T212601Z
UID:4952-1760263200-1760268600@emilykbergmann.com
SUMMARY:Eighteenth Sunday after Pentecost
DESCRIPTION:
URL:https://emilykbergmann.com/event/2025-10-12-slsm/
LOCATION:Church of St. Luke & St. Matthew\, 520 Clinton Ave\, Brooklyn\, NY\, 11238\, United States
CATEGORIES:liturgical
ATTACH;FMTTYPE=image/png:https://emilykbergmann.com/wp-content/uploads/2025/06/SLSM_logo.png
ORGANIZER;CN="Church of St. Luke & St. Matthew":MAILTO:music@stlukeandstmatthew.org
END:VEVENT
BEGIN:VEVENT
DTSTART;TZID=America/New_York:20251019T100000
DTEND;TZID=America/New_York:20251019T113000
DTSTAMP:20260425T090718
CREATED:20250916T212721Z
LAST-MODIFIED:20250916T212721Z
UID:4954-1760868000-1760873400@emilykbergmann.com
SUMMARY:Feast of St. Luke/Nineteenth Sunday after Pentecost
DESCRIPTION:
URL:https://emilykbergmann.com/event/2025-10-19-slsm/
LOCATION:Church of St. Luke & St. Matthew\, 520 Clinton Ave\, Brooklyn\, NY\, 11238\, United States
CATEGORIES:liturgical
ATTACH;FMTTYPE=image/png:https://emilykbergmann.com/wp-content/uploads/2025/06/SLSM_logo.png
ORGANIZER;CN="Church of St. Luke & St. Matthew":MAILTO:music@stlukeandstmatthew.org
END:VEVENT
BEGIN:VEVENT
DTSTART;TZID=America/New_York:20251023T180000
DTEND;TZID=America/New_York:20251023T190000
DTSTAMP:20260425T090718
CREATED:20250916T202614Z
LAST-MODIFIED:20250916T210839Z
UID:4908-1761242400-1761246000@emilykbergmann.com
SUMMARY:PIPES: Downtown Voices featuring Janet Yieh  
DESCRIPTION:Janet Yieh\, music director at New York’s Church of the Heavenly Rest and former Trinity assistant organist\, joins Downtown Voices to present a program of iconic Anglican and American hymns that illustrates the new organ’s majestic sweep — capable of both soaring transcendence and quiet sweetness. Opening with I Was Glad\, by Charles Hubert Hastings Parry\, the evening includes such favorites as William Henry Harris’s Faire is the heaven\, Cecilia McDowall’s O sing unto the Lord\, and Alice Parker’s Hark\, I Hear the Harps Eternal.
URL:https://emilykbergmann.com/event/2025-10-23-trinity/
LOCATION:Trinity Church\, 89 Broadway\, New York\, NY\, 10006\, United States
CATEGORIES:choral,concert,trinity church
ATTACH;FMTTYPE=image/png:https://emilykbergmann.com/wp-content/uploads/2025/09/2025-Fall-Season-Preview-Instagram-Grid-2.png
END:VEVENT
BEGIN:VEVENT
DTSTART;TZID=America/New_York:20251026T100000
DTEND;TZID=America/New_York:20251026T113000
DTSTAMP:20260425T090718
CREATED:20250916T212818Z
LAST-MODIFIED:20250916T212818Z
UID:4956-1761472800-1761478200@emilykbergmann.com
SUMMARY:Twentieth Sunday after Pentecost
DESCRIPTION:
URL:https://emilykbergmann.com/event/2025-10-26-slsm/
LOCATION:Church of St. Luke & St. Matthew\, 520 Clinton Ave\, Brooklyn\, NY\, 11238\, United States
CATEGORIES:liturgical
ATTACH;FMTTYPE=image/png:https://emilykbergmann.com/wp-content/uploads/2025/06/SLSM_logo.png
ORGANIZER;CN="Church of St. Luke & St. Matthew":MAILTO:music@stlukeandstmatthew.org
END:VEVENT
BEGIN:VEVENT
DTSTART;TZID=America/New_York:20251102T100000
DTEND;TZID=America/New_York:20251102T113000
DTSTAMP:20260425T090718
CREATED:20250916T212941Z
LAST-MODIFIED:20250916T212941Z
UID:4958-1762077600-1762083000@emilykbergmann.com
SUMMARY:All Saints' Day
DESCRIPTION:
URL:https://emilykbergmann.com/event/2025-11-02-slsm/
LOCATION:Church of St. Luke & St. Matthew\, 520 Clinton Ave\, Brooklyn\, NY\, 11238\, United States
CATEGORIES:liturgical
ATTACH;FMTTYPE=image/png:https://emilykbergmann.com/wp-content/uploads/2025/06/SLSM_logo.png
ORGANIZER;CN="Church of St. Luke & St. Matthew":MAILTO:music@stlukeandstmatthew.org
END:VEVENT
BEGIN:VEVENT
DTSTART;TZID=America/New_York:20251109T100000
DTEND;TZID=America/New_York:20251109T113000
DTSTAMP:20260425T090718
CREATED:20250916T213040Z
LAST-MODIFIED:20250916T213040Z
UID:4960-1762682400-1762687800@emilykbergmann.com
SUMMARY:Twenty-Second Sunday after Pentecost
DESCRIPTION:
URL:https://emilykbergmann.com/event/2025-11-09-slsm/
LOCATION:Church of St. Luke & St. Matthew\, 520 Clinton Ave\, Brooklyn\, NY\, 11238\, United States
CATEGORIES:liturgical
ATTACH;FMTTYPE=image/png:https://emilykbergmann.com/wp-content/uploads/2025/06/SLSM_logo.png
ORGANIZER;CN="Church of St. Luke & St. Matthew":MAILTO:music@stlukeandstmatthew.org
END:VEVENT
BEGIN:VEVENT
DTSTART;TZID=America/New_York:20251203T190000
DTEND;TZID=America/New_York:20251203T200000
DTSTAMP:20260425T090718
CREATED:20250916T211249Z
LAST-MODIFIED:20250916T211249Z
UID:4935-1764788400-1764792000@emilykbergmann.com
SUMMARY:Downtown Voices Celebrates 10 Years: Britten “Saint Nicolas”
DESCRIPTION:Expect a night of celebration\, reflection\, and joyful music-making when Downtown Voices brings back its alumni to mark this important anniversary. Joining forces with Trinity Youth Chorus and contemporary music ensemble NOVUS\, past and present members will raise their voices in a program that features the first work the chorus ever performed: Benjamin Britten’s Saint Nicolas. This colorful cantata tells the story of the revered 4th century bishop upon whom the legend of Santa Claus is based.
URL:https://emilykbergmann.com/event/2025-12-03-trinity/
LOCATION:Trinity Church\, 89 Broadway\, New York\, NY\, 10006\, United States
CATEGORIES:choral,concert,holiday,trinity church
ATTACH;FMTTYPE=image/png:https://emilykbergmann.com/wp-content/uploads/2025/09/2025-Fall-Season-Preview-Instagram-Grid-3.png
END:VEVENT
BEGIN:VEVENT
DTSTART;TZID=America/New_York:20260311T180000
DTEND;TZID=America/New_York:20260311T193000
DTSTAMP:20260425T090718
CREATED:20250916T213422Z
LAST-MODIFIED:20250916T213422Z
UID:4962-1773252000-1773257400@emilykbergmann.com
SUMMARY:Brahms Requiem
DESCRIPTION:On March 11\, Downtown Voices and NOVUS will perform Johannes Brahms’s Ein deutsches Requiem – a setting of biblical texts that is considered one of the most profound choral masterworks ever composed and a timeless meditation on grief\, hope\, and transcendence.
URL:https://emilykbergmann.com/event/2026-03-11-trinity/
LOCATION:Trinity Church\, 89 Broadway\, New York\, NY\, 10006\, United States
CATEGORIES:choral,concert,trinity church
ATTACH;FMTTYPE=image/png:https://emilykbergmann.com/wp-content/uploads/2025/09/DTV_PartHor_Large_Black_Vector.png
END:VEVENT
BEGIN:VEVENT
DTSTART;TZID=America/New_York:20260531T160000
DTEND;TZID=America/New_York:20260531T170000
DTSTAMP:20260425T090718
CREATED:20250916T213625Z
LAST-MODIFIED:20250916T213638Z
UID:4965-1780243200-1780246800@emilykbergmann.com
SUMMARY:Great Awakenings: John Henry Hobart and America
DESCRIPTION:In celebration of America’s 250th anniversary\, Trinity presents a new commission by David Hurd\, based on the writings of John Henry Hobart (3rd Episcopal Bishop of NY 1816-1830\, former rector of Trinity Church). \n 
URL:https://emilykbergmann.com/event/2026-05-31-trinity/
LOCATION:Trinity Church\, 89 Broadway\, New York\, NY\, 10006\, United States
CATEGORIES:choral,concert,premiere
ATTACH;FMTTYPE=image/png:https://emilykbergmann.com/wp-content/uploads/2025/09/DTV_PartHor_Large_Black_Vector.png
END:VEVENT
END:VCALENDAR